BEGIN:VCALENDAR
VERSION:2.0
PRODID:icalendar-ruby
CALSCALE:GREGORIAN
BEGIN:VEVENT
DTSTAMP:20210122T033108Z
UID:f90a7603-846f-463b-bc0c-61539769d21d
DTSTART;VALUE=DATE:20201118
DESCRIPTION:Property ID# 494455\, Locatoin: 8 Kent Terrace\, Wellington\, T
 ime: 12:00PM
SUMMARY:Auction for 
END:VEVENT
END:VCALENDAR
