BEGIN:VCALENDAR
VERSION:2.0
PRODID:icalendar-ruby
CALSCALE:GREGORIAN
BEGIN:VEVENT
DTSTAMP:20210122T033029Z
UID:baeafaa8-7f52-4967-9514-ea7d931d244a
DTSTART;VALUE=DATE:20201112
DESCRIPTION:Property ID# 493606\, Locatoin: L1/77 Thorndon Quay\, Thorndon\
 , Time: 1:00PM
SUMMARY:Auction for 
END:VEVENT
END:VCALENDAR
