BEGIN:VCALENDAR
VERSION:2.0
PRODID:icalendar-ruby
CALSCALE:GREGORIAN
BEGIN:VEVENT
DTSTAMP:20210122T033111Z
UID:58b2b2b0-86d8-4cae-9e53-006aa2db686e
DTSTART;VALUE=DATE:20201111
DESCRIPTION:Property ID# 493125\, Locatoin: 8 Kent Terrace\, Wellington\, T
 ime: 12:00PM
SUMMARY:Auction for 
END:VEVENT
END:VCALENDAR
