BEGIN:VCALENDAR
VERSION:2.0
PRODID:icalendar-ruby
CALSCALE:GREGORIAN
BEGIN:VEVENT
DTSTAMP:20210122T033113Z
UID:187a53e5-5260-47ca-a858-aee15ec11c44
DTSTART;VALUE=DATE:20201104
DESCRIPTION:Property ID# 492878\, Locatoin: 8 Kent Terrace\, Wellington\, T
 ime: 12:00PM
SUMMARY:Auction for 
END:VEVENT
END:VCALENDAR
