BEGIN:VCALENDAR
VERSION:2.0
PRODID:icalendar-ruby
CALSCALE:GREGORIAN
BEGIN:VEVENT
DTSTAMP:20210122T033034Z
UID:882d24a9-fcdc-4310-8d77-c765a7989a5f
DTSTART;VALUE=DATE:20201105
DESCRIPTION:Property ID# 492866\, Locatoin: 8 Kent Terrace\, Wellington \, 
 Time: 2:00PM
SUMMARY:Auction for 
END:VEVENT
END:VCALENDAR
