BEGIN:VCALENDAR
VERSION:2.0
PRODID:icalendar-ruby
CALSCALE:GREGORIAN
BEGIN:VEVENT
DTSTAMP:20210122T033114Z
UID:b4bc1b84-3440-4091-9ca4-aa6d84dbbd90
DTSTART;VALUE=DATE:20201001
DESCRIPTION:Property ID# 490069\, Locatoin: 8 Kent Terrace\, Wellington\, T
 ime: 12:00PM
SUMMARY:Auction for 
END:VEVENT
END:VCALENDAR
