BEGIN:VCALENDAR
VERSION:2.0
PRODID:icalendar-ruby
CALSCALE:GREGORIAN
BEGIN:VEVENT
DTSTAMP:20210122T033044Z
UID:d6f79818-8395-4017-a52b-8d513075ac67
DTSTART;VALUE=DATE:20200930
DESCRIPTION:Property ID# 489535\, Locatoin: 8 Kent Terrace\, Wellington\, T
 ime: 12:00PM
SUMMARY:Auction for 
END:VEVENT
END:VCALENDAR
