BEGIN:VCALENDAR
VERSION:2.0
PRODID:icalendar-ruby
CALSCALE:GREGORIAN
BEGIN:VEVENT
DTSTAMP:20210122T033047Z
UID:e51cde01-ebda-4689-9578-2e4d95e1cd9e
DTSTART;VALUE=DATE:20200910
DESCRIPTION:Property ID# 487904\, Locatoin: 8 Kent Terrace\, Wellington\, T
 ime: 1:00PM
SUMMARY:Auction for 
END:VEVENT
END:VCALENDAR
