BEGIN:VCALENDAR
VERSION:2.0
PRODID:icalendar-ruby
CALSCALE:GREGORIAN
BEGIN:VEVENT
DTSTAMP:20210122T033049Z
UID:1577219f-0ff0-4062-b885-3055a9738b7f
DTSTART;VALUE=DATE:20200813
DESCRIPTION:Property ID# 485663\, Locatoin: 8 Kent Terrace\, Wellington\, T
 ime: 1:00PM
SUMMARY:Auction for 
END:VEVENT
END:VCALENDAR
