BEGIN:VCALENDAR
VERSION:2.0
PRODID:icalendar-ruby
CALSCALE:GREGORIAN
BEGIN:VEVENT
DTSTAMP:20260424T174122Z
UID:adead6f1-641b-43ec-875c-2a54b3e8564c
DTSTART;VALUE=DATE:20200730
DESCRIPTION:Property ID# 485005\, Locatoin: Ray White Wellington City Level
  1 77 Thorndon Quay Wellington\, Time: 12:00PM
SUMMARY:Auction for 
END:VEVENT
END:VCALENDAR
