BEGIN:VCALENDAR
VERSION:2.0
PRODID:icalendar-ruby
CALSCALE:GREGORIAN
BEGIN:VEVENT
DTSTAMP:20210122T033036Z
UID:f2c92ef4-f647-432e-b824-3c9158627076
DTSTART;VALUE=DATE:20200723
DESCRIPTION:Property ID# 484382\, Locatoin: Lowe & Co Realty\, 8 Kent Terra
 ce\, Wellington \, Time: 12:00PM
SUMMARY:Auction for 
END:VEVENT
END:VCALENDAR
