BEGIN:VCALENDAR
VERSION:2.0
PRODID:icalendar-ruby
CALSCALE:GREGORIAN
BEGIN:VEVENT
DTSTAMP:20210122T033037Z
UID:0ad67980-e428-41ee-8e51-fe4d11a48b32
DTSTART;VALUE=DATE:20200716
DESCRIPTION:Property ID# 483648\, Locatoin: Lowe & Co Realty\, 8 Kent Terra
 ce\, Wellington \, Time: 1:00PM
SUMMARY:Auction for 
END:VEVENT
END:VCALENDAR
