BEGIN:VCALENDAR
VERSION:2.0
PRODID:icalendar-ruby
CALSCALE:GREGORIAN
BEGIN:VEVENT
DTSTAMP:20260424T173806Z
UID:8dc482f0-a520-4794-8007-65840aebd4f5
DTSTART;VALUE=DATE:20200715
DESCRIPTION:Property ID# 483477\, Locatoin: Harcourts Khandallah - 6 Dekka 
 Street\, Khandallah (if not sold prior)\, Time: 12:00PM
SUMMARY:Auction for 
END:VEVENT
END:VCALENDAR
