BEGIN:VCALENDAR
VERSION:2.0
PRODID:icalendar-ruby
CALSCALE:GREGORIAN
BEGIN:VEVENT
DTSTAMP:20260424T174435Z
UID:097ce91f-99e1-4f33-9e93-3cf54cfbcd38
DTSTART;VALUE=DATE:20200701
DESCRIPTION:Property ID# 482566\, Locatoin: Harcourts Khandallah - 6 Dekka 
 Street\, Khandallah (not selling prior)\, Time: 12:00PM
SUMMARY:Auction for 
END:VEVENT
END:VCALENDAR
