BEGIN:VCALENDAR
VERSION:2.0
PRODID:icalendar-ruby
CALSCALE:GREGORIAN
BEGIN:VEVENT
DTSTAMP:20210122T033050Z
UID:3e6a9de9-988f-4b60-88cf-089cf8ab6e54
DTSTART;VALUE=DATE:20200521
DESCRIPTION:Property ID# 479853\, Locatoin: 8 Kent Terrace\, Wellington\, T
 ime: 12:00PM
SUMMARY:Auction for 
END:VEVENT
END:VCALENDAR
