BEGIN:VCALENDAR
VERSION:2.0
PRODID:icalendar-ruby
CALSCALE:GREGORIAN
BEGIN:VEVENT
DTSTAMP:20210122T033052Z
UID:db3e5eff-e222-4a9a-aadb-3693765f8375
DTSTART;VALUE=DATE:20200220
DESCRIPTION:Property ID# 471631\, Locatoin: Lowe & Co Realty\, 8 Kent Terra
 ce\, Wellington\, Time: 2:00PM
SUMMARY:Auction for 
END:VEVENT
END:VCALENDAR
