BEGIN:VCALENDAR
VERSION:2.0
PRODID:icalendar-ruby
CALSCALE:GREGORIAN
BEGIN:VEVENT
DTSTAMP:20210122T033053Z
UID:e41c2149-ffe1-40d1-9f0a-9ce9969bab64
DTSTART;VALUE=DATE:20191205
DESCRIPTION:Property ID# 466743\, Locatoin: Lowe & Co Realty\, 8 Kent Terra
 ce\, Wellington\, Time: 2:00PM
SUMMARY:Auction for 
END:VEVENT
END:VCALENDAR
