BEGIN:VCALENDAR
VERSION:2.0
PRODID:icalendar-ruby
CALSCALE:GREGORIAN
BEGIN:VEVENT
DTSTAMP:20210122T033054Z
UID:ed06901c-54e7-48a7-a24a-d10fcf71b9d4
DTSTART;VALUE=DATE:20191129
DESCRIPTION:Property ID# 466380\, Locatoin: Lowe & Co Realty\, 8 Kent Terra
 ce\, Wellington\, Time: 12:00PM
SUMMARY:Auction for 
END:VEVENT
END:VCALENDAR
