BEGIN:VCALENDAR
VERSION:2.0
PRODID:icalendar-ruby
CALSCALE:GREGORIAN
BEGIN:VEVENT
DTSTAMP:20210122T033056Z
UID:6dacbe1e-a1de-41bb-810a-687ad11491e8
DTSTART;VALUE=DATE:20190815
DESCRIPTION:Property ID# 458637\, Locatoin: Lowe & Co Realty\, 8 Kent Terra
 ce\, Wellington\, Time: 12:00PM
SUMMARY:Auction for 
END:VEVENT
END:VCALENDAR
