BEGIN:VCALENDAR
VERSION:2.0
PRODID:icalendar-ruby
CALSCALE:GREGORIAN
BEGIN:VEVENT
DTSTAMP:20210122T033058Z
UID:cf1d5cf2-2b3d-4213-a0d5-88ea56025b2b
DTSTART;VALUE=DATE:20190801
DESCRIPTION:Property ID# 457821\, Locatoin: 8 Lowe and Co Realty\, Wellingt
 on\, Time: 12:00PM
SUMMARY:Auction for 
END:VEVENT
END:VCALENDAR
