BEGIN:VCALENDAR
VERSION:2.0
PRODID:icalendar-ruby
CALSCALE:GREGORIAN
BEGIN:VEVENT
DTSTAMP:20210122T033059Z
UID:e8ac05a1-c9e1-464f-a1f0-7dd9ef9c4380
DTSTART;VALUE=DATE:20190731
DESCRIPTION:Property ID# 457197\, Locatoin: 8 Lowe and Co Realty\, Wellingt
 on\, Time: 1:00PM
SUMMARY:Auction for 
END:VEVENT
END:VCALENDAR
